
BEGIN:VCALENDAR
VERSION:2.0
PRODID:-//AbSec NSW - ECPv6.15.12.2//NONSGML v1.0//EN
CALSCALE:GREGORIAN
METHOD:PUBLISH
X-WR-CALNAME:AbSec NSW
X-ORIGINAL-URL:https://absec.org.au
X-WR-CALDESC:Events for AbSec NSW
REFRESH-INTERVAL;VALUE=DURATION:PT1H
X-Robots-Tag:noindex
X-PUBLISHED-TTL:PT1H
BEGIN:VTIMEZONE
TZID:Australia/Sydney
BEGIN:STANDARD
TZOFFSETFROM:+1100
TZOFFSETTO:+1000
TZNAME:AEST
DTSTART:20250405T160000
END:STANDARD
BEGIN:DAYLIGHT
TZOFFSETFROM:+1000
TZOFFSETTO:+1100
TZNAME:AEDT
DTSTART:20251004T160000
END:DAYLIGHT
BEGIN:STANDARD
TZOFFSETFROM:+1100
TZOFFSETTO:+1000
TZNAME:AEST
DTSTART:20260404T160000
END:STANDARD
BEGIN:DAYLIGHT
TZOFFSETFROM:+1000
TZOFFSETTO:+1100
TZNAME:AEDT
DTSTART:20261003T160000
END:DAYLIGHT
BEGIN:STANDARD
TZOFFSETFROM:+1100
TZOFFSETTO:+1000
TZNAME:AEST
DTSTART:20270403T160000
END:STANDARD
BEGIN:DAYLIGHT
TZOFFSETFROM:+1000
TZOFFSETTO:+1100
TZNAME:AEDT
DTSTART:20271002T160000
END:DAYLIGHT
END:VTIMEZONE
BEGIN:VEVENT
DTSTART;TZID=Australia/Sydney:20260226T140000
DTEND;TZID=Australia/Sydney:20260226T160000
DTSTAMP:20260424T014428
CREATED:20260128T023744Z
LAST-MODIFIED:20260128T040858Z
UID:10000060-1772114400-1772121600@absec.org.au
SUMMARY:Strong mob\, strong peak | AbSec's return to Dubbo
DESCRIPTION:Strong mob\, strong peak | AbSec’s return to Dubbo\nWhy we’re returning  \nCommunity told us that being listened to is important\, but being heard and seeing action matters just as much.  \nThis roadshow update is an opportunity to:  \n\n\n							\n										Share key themes and insights from the October roadshow\n									\n\n							\n										Provide updates on advocacy priorities and sector work influenced by community feedback\n									\n\n							\n										Strengthen relationships and accountability with local communities\n									\n\n							\n										Continue yarning about what children\, families and communities need now and into the future.\n									\n\nYour voices and stories are the basis for our work\, and that’s why we are returning to these communities after 6 months – to keep listening and learning.  \nWhether you’re part of an ACCO or a community member\, your insight helps guide AbSec’s work as a peak body – because meaningful reform starts with you.  \nAgenda: \n\n\n							\n										2:00pm Welcome and Acknowledgement of Country (George Selvanera\, Director Policy & Advocacy | AbSec)\n									\n\n							\n										2:05pm Introductions (Taliya-Via Tuiono\, Community Engagement Officer | AbSec)\n									\n\n							\n										2:15pm Western Region CP and OOHC data and funding data (Eamon Brodie\, Policy Officer | AbSec)\n									\n\n							\n										2:45pm Feedback on the issues you wanted us to follow up on (Taliya-Via Tuiono\, Community Engagement Officer | AbSec)\n									\n\n							\n										3:00pm State of ACCO CP and OOHC sector census interim report (Eamon Brodie\, Policy Officer | AbSec)\n									\n\n							\n										3:30pm Other key priorities/research asks (All)\n									\n\n							\n										3:50pm Closing comments (George Selvanera\, Director Policy & Advocacy | AbSec)
URL:https://absec.org.au/event/strong-mob-strong-peak-absecs-return-to-dubbo/
LOCATION:Dubbo Rhino Lodge\, 14L Camp Road\, Dubbo New South Wales 2830\, Dubbo\, New South Wales\, 2830\, Australia
CATEGORIES:Forums,Roadshow
ATTACH;FMTTYPE=image/jpeg:https://absec.org.au/wp-content/uploads/2026/01/AbSec-Roadshow-Event-listings_Jan2026.jpg
ORGANIZER;CN="AbSec NSW":MAILTO:events@absec.org.au
END:VEVENT
END:VCALENDAR