
BEGIN:VCALENDAR
VERSION:2.0
PRODID:-//AbSec NSW - ECPv6.15.12.2//NONSGML v1.0//EN
CALSCALE:GREGORIAN
METHOD:PUBLISH
X-WR-CALNAME:AbSec NSW
X-ORIGINAL-URL:https://absec.org.au
X-WR-CALDESC:Events for AbSec NSW
REFRESH-INTERVAL;VALUE=DURATION:PT1H
X-Robots-Tag:noindex
X-PUBLISHED-TTL:PT1H
BEGIN:VTIMEZONE
TZID:Australia/Sydney
BEGIN:STANDARD
TZOFFSETFROM:+1100
TZOFFSETTO:+1000
TZNAME:AEST
DTSTART:20240406T160000
END:STANDARD
BEGIN:DAYLIGHT
TZOFFSETFROM:+1000
TZOFFSETTO:+1100
TZNAME:AEDT
DTSTART:20241005T160000
END:DAYLIGHT
BEGIN:STANDARD
TZOFFSETFROM:+1100
TZOFFSETTO:+1000
TZNAME:AEST
DTSTART:20250405T160000
END:STANDARD
BEGIN:DAYLIGHT
TZOFFSETFROM:+1000
TZOFFSETTO:+1100
TZNAME:AEDT
DTSTART:20251004T160000
END:DAYLIGHT
BEGIN:STANDARD
TZOFFSETFROM:+1100
TZOFFSETTO:+1000
TZNAME:AEST
DTSTART:20260404T160000
END:STANDARD
BEGIN:DAYLIGHT
TZOFFSETFROM:+1000
TZOFFSETTO:+1100
TZNAME:AEDT
DTSTART:20261003T160000
END:DAYLIGHT
END:VTIMEZONE
BEGIN:VEVENT
DTSTART;TZID=Australia/Sydney:20250506T103000
DTEND;TZID=Australia/Sydney:20250506T113000
DTSTAMP:20260420T234549
CREATED:20250121T013536Z
LAST-MODIFIED:20250121T030828Z
UID:1091434-1746527400-1746531000@absec.org.au
SUMMARY:AbSec online Carer training session | Leaving Care
DESCRIPTION:« All Events\n 				\n				\n				\n				\n																														\n				\n				\n				\n					\n	\n		\n\n	\n	Add to calendar	\n		\n	\n\n		\n			\n									\n	Google Calendar\n\n									\n	iCalendar\n\n									\n	Outlook 365\n\n									\n	Outlook Live\n\n							\n		\n\n		\n	\n\n				\n				\n				\n				\n				\n					\n	AbSec online Carer training session | Leaving Care				\n				\n		\n		\n				\n				\n							\n			\n						\n		\n						\n				\n				\n				\n					Price: 				\n				\n				\n				\n					Free 				\n				\n				\n				\n				\n									Bi-monthly online training dedicated to those working with Aboriginal children\, young people and families.								\n				\n				\n				\n					\n		\n			6 May\n\n	\n\n	  \, \n\n\n10:30 am\n\n		\n\n\n\n	\n	  -  \n\n11:30 am\n\n\n\n	\n				\n				\n				\n				\n					Online via Teams 				\n				\n				\n				\n									\n					\n						\n									Register for this event\n					\n					\n				\n								\n				\n				\n				\n					\n				\n		\n					\n				\n				\n					\n	AbSec online Carer training session | Leaving Care				\n				\n				\n				\n									This month’s topic is Leaving Care: Planning for the Future. Explore the differences between case plans and leaving care plans. We’ll discuss the entitlements and responsibilities of carers when a child is transitioning out of care\, including financial planning\, maintaining connections\, and ensuring a smooth transition.Connect with experienced professionals and fellow carers as we explore this crucial topic together.
URL:https://absec.org.au/event/absec-online-carer-training-session-leaving-care/
CATEGORIES:Virtual
ATTACH;FMTTYPE=image/jpeg:https://absec.org.au/wp-content/uploads/2024/08/Online-Carer-training-sessions_Eventbrite-1.jpg
ORGANIZER;CN="AbSec NSW":MAILTO:events@absec.org.au
END:VEVENT
END:VCALENDAR